BEGIN:VCALENDAR
VERSION:2.0
PRODID:-//Marianos - ECPv6.2.6.1//NONSGML v1.0//EN
CALSCALE:GREGORIAN
METHOD:PUBLISH
X-WR-CALNAME:Marianos
X-ORIGINAL-URL:https://marianos.pt
X-WR-CALDESC:Events for Marianos
REFRESH-INTERVAL;VALUE=DURATION:PT1H
X-Robots-Tag:noindex
X-PUBLISHED-TTL:PT1H
BEGIN:VTIMEZONE
TZID:UTC
BEGIN:STANDARD
TZOFFSETFROM:+0000
TZOFFSETTO:+0000
TZNAME:UTC
DTSTART:20250101T000000
END:STANDARD
END:VTIMEZONE
BEGIN:VEVENT
DTSTART;TZID=UTC:20250312T210000
DTEND;TZID=UTC:20250312T220000
DTSTAMP:20260421T053655
CREATED:20250321T223354Z
LAST-MODIFIED:20250321T223354Z
UID:13830-1741813200-1741816800@marianos.pt
SUMMARY:Noite de Oração...com Deus
DESCRIPTION:Todas as quartas da Quaresma\, os Jovens Mic organizam uma noite de oração…com Deus\, na Igreja de S. Pedro – Macedo de Cavaleiros \nTema: ESPERANÇA NO SORRISO
URL:https://marianos.pt/evento/noite-de-oracao-com-deus-6/
LOCATION:Macedo de Cavaleiros
ATTACH;FMTTYPE=image/jpeg:https://marianos.pt/wp-content/uploads/2025/03/com-Deus-2025.jpg
END:VEVENT
END:VCALENDAR