BEGIN:VCALENDAR
VERSION:2.0
PRODID:-//Marianos - ECPv6.2.6.1//NONSGML v1.0//EN
CALSCALE:GREGORIAN
METHOD:PUBLISH
X-WR-CALNAME:Marianos
X-ORIGINAL-URL:https://marianos.pt
X-WR-CALDESC:Events for Marianos
REFRESH-INTERVAL;VALUE=DURATION:PT1H
X-Robots-Tag:noindex
X-PUBLISHED-TTL:PT1H
BEGIN:VTIMEZONE
TZID:UTC
BEGIN:STANDARD
TZOFFSETFROM:+0000
TZOFFSETTO:+0000
TZNAME:UTC
DTSTART:20240101T000000
END:STANDARD
END:VTIMEZONE
BEGIN:VEVENT
DTSTART;TZID=UTC:20240721T093000
DTEND;TZID=UTC:20240721T170000
DTSTAMP:20260421T184416
CREATED:20231206T130911Z
LAST-MODIFIED:20240709T101822Z
UID:13175-1721554200-1721581200@marianos.pt
SUMMARY:Retiro em Balsamão - “Organismos de participação na Igreja sinodal”
DESCRIPTION:RETIRO MENSAL NO CONVENTO DE BALSAMÃO \nTema – “Organismos de participação na Igreja sinodal” \nOrientado por P. Eduardo Novo\, MIC
URL:https://marianos.pt/evento/retiro-em-balsamao-organismos-de-participacao-na-igreja-sinodal/
LOCATION:Convento de Balsamão\, Chacim\, Macedo de Cavaleiros\, Macedo de Cavaleiros\, 5340-091\, Portugal
ATTACH;FMTTYPE=image/webp:https://marianos.pt/wp-content/uploads/2023/12/21.07.2024.webp
END:VEVENT
END:VCALENDAR