BEGIN:VCALENDAR
VERSION:2.0
PRODID:-//Marianos - ECPv6.2.6.1//NONSGML v1.0//EN
CALSCALE:GREGORIAN
METHOD:PUBLISH
X-ORIGINAL-URL:https://marianos.pt
X-WR-CALDESC:Events for Marianos
REFRESH-INTERVAL;VALUE=DURATION:PT1H
X-Robots-Tag:noindex
X-PUBLISHED-TTL:PT1H
BEGIN:VTIMEZONE
TZID:UTC
BEGIN:STANDARD
TZOFFSETFROM:+0000
TZOFFSETTO:+0000
TZNAME:UTC
DTSTART:20240101T000000
END:STANDARD
END:VTIMEZONE
BEGIN:VEVENT
DTSTART;TZID=UTC:20240616T093000
DTEND;TZID=UTC:20240616T170000
DTSTAMP:20260421T203418
CREATED:20231206T130713Z
LAST-MODIFIED:20240613T153107Z
UID:13173-1718530200-1718557200@marianos.pt
SUMMARY:Retiro em Balsamão - “Para uma Igreja que escuta e acompanha/uma formação sinodal”
DESCRIPTION:RETIRO MENSAL NO CONVENTO DE BALSAMÃO \nTema – “Para uma Igreja que escuta e acompanha/uma formação sinodal” \nOrientado por P.  João Paulo Pereira\, MIC
URL:https://marianos.pt/evento/retiro-em-balsamao-para-uma-igreja-que-escuta-e-acompanha-uma-formacao-sinodal/
LOCATION:Convento de Balsamão\, Chacim\, Macedo de Cavaleiros\, Macedo de Cavaleiros\, 5340-091\, Portugal
ATTACH;FMTTYPE=image/webp:https://marianos.pt/wp-content/uploads/2023/12/image0.webp
END:VEVENT
END:VCALENDAR