BEGIN:VCALENDAR
VERSION:2.0
PRODID:-//Marianos - ECPv6.2.6.1//NONSGML v1.0//EN
CALSCALE:GREGORIAN
METHOD:PUBLISH
X-ORIGINAL-URL:https://marianos.pt
X-WR-CALDESC:Events for Marianos
REFRESH-INTERVAL;VALUE=DURATION:PT1H
X-Robots-Tag:noindex
X-PUBLISHED-TTL:PT1H
BEGIN:VTIMEZONE
TZID:UTC
BEGIN:STANDARD
TZOFFSETFROM:+0000
TZOFFSETTO:+0000
TZNAME:UTC
DTSTART:20240101T000000
END:STANDARD
END:VTIMEZONE
BEGIN:VEVENT
DTSTART;VALUE=DATE:20240421
DTEND;VALUE=DATE:20240429
DTSTAMP:20260421T235225
CREATED:20231206T125233Z
LAST-MODIFIED:20240417T155948Z
UID:13163-1713657600-1714348799@marianos.pt
SUMMARY:Semana de Oração pelas Vocações
DESCRIPTION:Semana dedicada à oração pelas vocações! \nORAÇÃO \n\nMaria\, Senhora da Visitação\,\najuda-nos a levantar\, a despertar do sono\,\na sair da indiferença\,\na abrir as grades da prisão\nem que por vezes nos encerramos.\nComo Tu em relação a Isabel\,\ndá-nos a coragem de nos pormos a caminho\,\npara sermos peregrinos da esperança.\nComo Tu em Nazaré\,\ndá-nos a serenidade para sermos construtores da paz.\nQue no ambiente em que habitamos\ne no nosso estado de vida\,\npossamos comunicar boas novas de alegria\ne gerar vida nova.\nMaria\, Senhora da escuta\,\npermite que o nosso coração se deixe questionar:\n“Para quem sou eu?”\nMaria\, Senhora das vocações\,\nacolhe-nos a todos\,\npara que ninguém se sinta excluído\ne\, como Tu\, cada pessoa possa dar\numa resposta generosa e apaixonada.\nÁmen. \nGostarias de conhecer melhor os Marianos da Imaculada Conceição? \nEscreve-nos para vocacao.mic@marianos.pt
URL:https://marianos.pt/evento/semana-de-oracao-pelas-vocacoes/
LOCATION:Macedo de Cavaleiros
ATTACH;FMTTYPE=image/webp:https://marianos.pt/wp-content/uploads/2023/12/Vocacoes_24_cartaz.webp
END:VEVENT
END:VCALENDAR