BEGIN:VCALENDAR
VERSION:2.0
PRODID:-//Marianos - ECPv6.2.6.1//NONSGML v1.0//EN
CALSCALE:GREGORIAN
METHOD:PUBLISH
X-WR-CALNAME:Marianos
X-ORIGINAL-URL:https://marianos.pt
X-WR-CALDESC:Events for Marianos
REFRESH-INTERVAL;VALUE=DURATION:PT1H
X-Robots-Tag:noindex
X-PUBLISHED-TTL:PT1H
BEGIN:VTIMEZONE
TZID:UTC
BEGIN:STANDARD
TZOFFSETFROM:+0000
TZOFFSETTO:+0000
TZNAME:UTC
DTSTART:20240101T000000
END:STANDARD
END:VTIMEZONE
BEGIN:VEVENT
DTSTART;TZID=UTC:20240309T210000
DTEND;TZID=UTC:20240309T220000
DTSTAMP:20260422T012525
CREATED:20240314T114004Z
LAST-MODIFIED:20240314T114004Z
UID:13325-1710018000-1710021600@marianos.pt
SUMMARY:Noite de Oração...com Deus
DESCRIPTION:Todos os sábados da Quaresma\, os Jovens Mic organizam uma noite de oração…com Deus\, na Igreja de S. Pedro – Macedo de Cavaleiros \nTema: Jeremias\, jovem da esperança
URL:https://marianos.pt/evento/noite-de-oracao-com-deus-4/
LOCATION:Macedo de Cavaleiros
ATTACH;FMTTYPE=image/webp:https://marianos.pt/wp-content/uploads/2024/01/com-deus-2024.webp
END:VEVENT
END:VCALENDAR