BEGIN:VCALENDAR
VERSION:2.0
PRODID:-//Marianos - ECPv6.2.6.1//NONSGML v1.0//EN
CALSCALE:GREGORIAN
METHOD:PUBLISH
X-WR-CALNAME:Marianos
X-ORIGINAL-URL:https://marianos.pt
X-WR-CALDESC:Events for Marianos
REFRESH-INTERVAL;VALUE=DURATION:PT1H
X-Robots-Tag:noindex
X-PUBLISHED-TTL:PT1H
BEGIN:VTIMEZONE
TZID:UTC
BEGIN:STANDARD
TZOFFSETFROM:+0000
TZOFFSETTO:+0000
TZNAME:UTC
DTSTART:20250101T000000
END:STANDARD
END:VTIMEZONE
BEGIN:VEVENT
DTSTART;TZID=UTC:20250402T210000
DTEND;TZID=UTC:20250402T220000
DTSTAMP:20260421T015351
CREATED:20250321T223653Z
LAST-MODIFIED:20250321T223653Z
UID:13837-1743627600-1743631200@marianos.pt
SUMMARY:Noite de Oração...com Deus
DESCRIPTION:Todas as quartas da Quaresma\, os Jovens Mic organizam uma noite de oração…com Deus\, na Igreja de S. Pedro – Macedo de Cavaleiros \nTema: ESPERANÇA NO OLHAR FRATERNO
URL:https://marianos.pt/evento/noite-de-oracao-com-deus-9/
LOCATION:Macedo de Cavaleiros
ATTACH;FMTTYPE=image/jpeg:https://marianos.pt/wp-content/uploads/2025/03/com-Deus-2025.jpg
END:VEVENT
BEGIN:VEVENT
DTSTART;TZID=UTC:20250409T210000
DTEND;TZID=UTC:20250409T220000
DTSTAMP:20260421T015351
CREATED:20250321T223753Z
LAST-MODIFIED:20250321T223753Z
UID:13839-1744232400-1744236000@marianos.pt
SUMMARY:Noite de Oração...com Deus
DESCRIPTION:Todas as quartas da Quaresma\, os Jovens Mic organizam uma noite de oração…com Deus\, na Igreja de S. Pedro – Macedo de Cavaleiros \nTema: ESPERANÇA NO GESTO DE AMIZADE
URL:https://marianos.pt/evento/noite-de-oracao-com-deus-10/
LOCATION:Macedo de Cavaleiros
ATTACH;FMTTYPE=image/jpeg:https://marianos.pt/wp-content/uploads/2025/03/com-Deus-2025.jpg
END:VEVENT
END:VCALENDAR