BEGIN:VCALENDAR
VERSION:2.0
PRODID:-//Marianos - ECPv6.2.6.1//NONSGML v1.0//EN
CALSCALE:GREGORIAN
METHOD:PUBLISH
X-ORIGINAL-URL:https://marianos.pt
X-WR-CALDESC:Events for Marianos
REFRESH-INTERVAL;VALUE=DURATION:PT1H
X-Robots-Tag:noindex
X-PUBLISHED-TTL:PT1H
BEGIN:VTIMEZONE
TZID:UTC
BEGIN:STANDARD
TZOFFSETFROM:+0000
TZOFFSETTO:+0000
TZNAME:UTC
DTSTART:20250101T000000
END:STANDARD
END:VTIMEZONE
BEGIN:VEVENT
DTSTART;TZID=UTC:20250126T093000
DTEND;TZID=UTC:20250126T170000
DTSTAMP:20260421T070618
CREATED:20241205T160523Z
LAST-MODIFIED:20241205T160523Z
UID:13728-1737883800-1737910800@marianos.pt
SUMMARY:Retiro em Balsamão - “A esperança funda-se na fé e é alimentada pela caridade”
DESCRIPTION:RETIRO MENSAL NO CONVENTO DE BALSAMÃO \nTema – “A esperança funda-se na fé e é alimentada pela caridade”  \n 
URL:https://marianos.pt/evento/retiro-em-balsamao-a-esperanca-funda-se-na-fe-e-e-alimentada-pela-caridade/
LOCATION:Convento de Balsamão\, Chacim\, Macedo de Cavaleiros\, Macedo de Cavaleiros\, 5340-091\, Portugal
END:VEVENT
END:VCALENDAR