BEGIN:VCALENDAR
VERSION:2.0
PRODID:-//Marianos - ECPv6.2.6.1//NONSGML v1.0//EN
CALSCALE:GREGORIAN
METHOD:PUBLISH
X-WR-CALNAME:Marianos
X-ORIGINAL-URL:https://marianos.pt
X-WR-CALDESC:Events for Marianos
REFRESH-INTERVAL;VALUE=DURATION:PT1H
X-Robots-Tag:noindex
X-PUBLISHED-TTL:PT1H
BEGIN:VTIMEZONE
TZID:UTC
BEGIN:STANDARD
TZOFFSETFROM:+0000
TZOFFSETTO:+0000
TZNAME:UTC
DTSTART:20240101T000000
END:STANDARD
END:VTIMEZONE
BEGIN:VEVENT
DTSTART;TZID=UTC:20241117T093000
DTEND;TZID=UTC:20241117T170000
DTSTAMP:20260421T100924
CREATED:20241112T111704Z
LAST-MODIFIED:20241112T111704Z
UID:13720-1731835800-1731862800@marianos.pt
SUMMARY:Retiro em Balsamão - “Sínodo sobre a sinodalidade\, uma esperança para a Igreja”
DESCRIPTION:RETIRO MENSAL NO CONVENTO DE BALSAMÃO \nTema – “Sínodo sobre a sinodalidade\, uma esperança para a Igreja” \nOrientado por P.  João Carlos Rodrigues\, MIC
URL:https://marianos.pt/evento/retiro-em-balsamao-sinodo-sobre-a-sinodalidade-uma-esperanca-para-a-igreja/
LOCATION:Convento de Balsamão\, Chacim\, Macedo de Cavaleiros\, Macedo de Cavaleiros\, 5340-091\, Portugal
ATTACH;FMTTYPE=image/webp:https://marianos.pt/wp-content/uploads/2024/11/17-novembro-2024.webp
END:VEVENT
END:VCALENDAR